BEGIN:VCALENDAR
VERSION:2.0
PRODID:-//Ecclesbourne Valley Railway - ECPv6.15.20//NONSGML v1.0//EN
CALSCALE:GREGORIAN
METHOD:PUBLISH
X-ORIGINAL-URL:https://www.e-v-r.com
X-WR-CALDESC:Events for Ecclesbourne Valley Railway
REFRESH-INTERVAL;VALUE=DURATION:PT1H
X-Robots-Tag:noindex
X-PUBLISHED-TTL:PT1H
BEGIN:VTIMEZONE
TZID:Europe/London
BEGIN:DAYLIGHT
TZOFFSETFROM:+0000
TZOFFSETTO:+0100
TZNAME:BST
DTSTART:20250330T010000
END:DAYLIGHT
BEGIN:STANDARD
TZOFFSETFROM:+0100
TZOFFSETTO:+0000
TZNAME:GMT
DTSTART:20251026T010000
END:STANDARD
BEGIN:DAYLIGHT
TZOFFSETFROM:+0000
TZOFFSETTO:+0100
TZNAME:BST
DTSTART:20260329T010000
END:DAYLIGHT
BEGIN:STANDARD
TZOFFSETFROM:+0100
TZOFFSETTO:+0000
TZNAME:GMT
DTSTART:20261025T010000
END:STANDARD
BEGIN:DAYLIGHT
TZOFFSETFROM:+0000
TZOFFSETTO:+0100
TZNAME:BST
DTSTART:20270328T010000
END:DAYLIGHT
BEGIN:STANDARD
TZOFFSETFROM:+0100
TZOFFSETTO:+0000
TZNAME:GMT
DTSTART:20271031T010000
END:STANDARD
END:VTIMEZONE
BEGIN:VEVENT
DTSTART;TZID=Europe/London:20260702T101500
DTEND;TZID=Europe/London:20260702T170000
DTSTAMP:20260421T002053
CREATED:20260204T120653Z
LAST-MODIFIED:20260224T142813Z
UID:1689-1782987300-1783011600@www.e-v-r.com
SUMMARY:Diesel Services
DESCRIPTION:We will be operating our diesel services between Wirksworth and Duffield\, as follows: \nDepart Wirksworth \n\n\n\nWirksworth Dep\n10:15\n12:45\n15:20\n\n\nIdridgehay Dep\n10:35\n13:05\n15:40\n\n\nShottle Dep\n10:41\n13:11\n15:46\n\n\nDuffield Arr\n10:53\n13:23\n15:58\n\n\n\nDepart Duffield \n\n\n\nDuffield Dep\n11:15\n13:45\n16:20\n\n\nShottle Dep\n11:29\n13:59\n16:34\n\n\nIdridgehay Dep\n11:37\n14:07\n16:42\n\n\nWirksworth Arr\n11:56\n14:26\n17:01\n\n\n\n  \nOnline prices (booking fees apply) \nAdults: £21.50\nChildren: £11.00 (5-15)\nFamily: £48.00 (two adults & up to three children) \nBUY TICKETS & MORE INFORMATION \n 
URL:https://www.e-v-r.com/event/diesel-services-3/
LOCATION:Wirksworth Station\, Station Road\, Coldwell Street\, Wirksworth\, Derbyshire\, DE4 4FB\, United Kingdom
CATEGORIES:Diesel Services
ORGANIZER;CN="Ecclesbourne Valley Railway":MAILTO:ticketoffice@e-v-r.com
END:VEVENT
BEGIN:VEVENT
DTSTART;TZID=Europe/London:20260703T101500
DTEND;TZID=Europe/London:20260705T170000
DTSTAMP:20260421T002053
CREATED:20260204T120819Z
LAST-MODIFIED:20260224T142842Z
UID:1691-1783073700-1783270800@www.e-v-r.com
SUMMARY:Steam Services
DESCRIPTION:We will be operating our steam services between Wirksworth and Duffield\, as follows: \nDepart Wirksworth \n\n\n\nWirksworth Dep\n10:15\n12:45\n15:20\n\n\nIdridgehay Dep\n10:35\n13:05\n15:40\n\n\nShottle Dep\n10:41\n13:11\n15:46\n\n\nDuffield Arr\n10:53\n13:23\n15:58\n\n\n\nDepart Duffield \n\n\n\nDuffield Dep\n11:15\n13:45\n16:20\n\n\nShottle Dep\n11:29\n13:59\n16:34\n\n\nIdridgehay Dep\n11:37\n14:07\n16:42\n\n\nWirksworth Arr\n11:56\n14:26\n17:01\n\n\n\n  \nOnline prices (booking fees apply) \nAdults: £21.50\nChildren: £11.00 (5-15)\nFamily: £48.00 (two adults & up to three children) \nBUY TICKETS & MORE INFORMATION \n 
URL:https://www.e-v-r.com/event/steam-services-32/
LOCATION:Wirksworth Station\, Station Road\, Coldwell Street\, Wirksworth\, Derbyshire\, DE4 4FB\, United Kingdom
CATEGORIES:Steam Services
ORGANIZER;CN="Ecclesbourne Valley Railway":MAILTO:ticketoffice@e-v-r.com
END:VEVENT
BEGIN:VEVENT
DTSTART;TZID=Europe/London:20260704T082000
DTEND;TZID=Europe/London:20260704T082000
DTSTAMP:20260421T002053
CREATED:20260204T121011Z
LAST-MODIFIED:20260204T121035Z
UID:1693-1783153200-1783153200@www.e-v-r.com
SUMMARY:Duffield Shopper Special
DESCRIPTION:The Duffield Shopper Specials run on the first Saturday of each month\, on the same day as the Wirksworth Farmers Market. \nThe Diesel Multiple Unit leaves Duffield at 8.20am\, allowing ample time to explore this well-established and popular event\, with artisans selling a wide range of products. \nThis monthly service runs in addition to the scheduled steam services\, which start at 10:15am from Wirksworth. \nTo buy tickets follow this LINK and then scroll down to the Duffield Shopper Special.
URL:https://www.e-v-r.com/event/duffield-shopper-special-7/
LOCATION:Duffield Station\, Station Approach\, Duffield\, Derbyshire\, DE56 4EQ\, United Kingdom
CATEGORIES:Duffield Shopper Special
ORGANIZER;CN="Ecclesbourne Valley Railway":MAILTO:ticketoffice@e-v-r.com
END:VEVENT
BEGIN:VEVENT
DTSTART;TZID=Europe/London:20260704T101500
DTEND;TZID=Europe/London:20260704T170000
DTSTAMP:20260421T002053
CREATED:20260204T121159Z
LAST-MODIFIED:20260204T121243Z
UID:1695-1783160100-1783184400@www.e-v-r.com
SUMMARY:Ravenstor Shuttle
DESCRIPTION:Take the Ravenstor Shuttle\, a Diesel Multiple Unit\, to Ravenstor Station – the most northerly point of the line\, situated just half a mile away from Wirksworth Station at the end of a 1-in-27 incline. \nOn arrival it could be mistaken that you are in the middle of nowhere! In fact\, you are just a few minutes away from many of the tourist attractions associated with the Peak District. \nAround the Station \nThere are many places to visit around Ravenstor Station and indeed one could spend a whole day visiting all of them! \nIf you are planning a day in the Peak District why not travel from Duffield to Wirksworth by train and hop onto our Ravenstor shuttle. Alternatively\, you could park at Wirksworth Station and ride up instead. \nFollow waymarkings from the station to visit: \n\nNational Stone Centre\nDerbyshire Eco Centre\nBlack Rocks\nMiddleton Top Engine House\nThe High Peak Trail\nSteeple Grange Light Railway\n\nBUY TICKETS AT THE TICKET OFFICE
URL:https://www.e-v-r.com/event/ravenstor-shuttle-5/
LOCATION:Wirksworth Station\, Station Road\, Coldwell Street\, Wirksworth\, Derbyshire\, DE4 4FB\, United Kingdom
CATEGORIES:Ravenstor Shuttle
ORGANIZER;CN="Ecclesbourne Valley Railway":MAILTO:ticketoffice@e-v-r.com
END:VEVENT
BEGIN:VEVENT
DTSTART;TZID=Europe/London:20260709T101500
DTEND;TZID=Europe/London:20260709T170000
DTSTAMP:20260421T002053
CREATED:20260204T121449Z
LAST-MODIFIED:20260224T143028Z
UID:1697-1783592100-1783616400@www.e-v-r.com
SUMMARY:Diesel Services
DESCRIPTION:We will be operating our diesel services between Wirksworth and Duffield\, as follows: \nDepart Wirksworth \n\n\n\nWirksworth Dep\n10:15\n12:45\n15:20\n\n\nIdridgehay Dep\n10:35\n13:05\n15:40\n\n\nShottle Dep\n10:41\n13:11\n15:46\n\n\nDuffield Arr\n10:53\n13:23\n15:58\n\n\n\nDepart Duffield \n\n\n\nDuffield Dep\n11:15\n13:45\n16:20\n\n\nShottle Dep\n11:29\n13:59\n16:34\n\n\nIdridgehay Dep\n11:37\n14:07\n16:42\n\n\nWirksworth Arr\n11:56\n14:26\n17:01\n\n\n\n  \nOnline prices (booking fees apply) \nAdults: £21.50\nChildren: £11.00 (5-15)\nFamily: £48.00 (two adults & up to three children) \nBUY TICKETS & MORE INFORMATION \n 
URL:https://www.e-v-r.com/event/diesel-services-4/
LOCATION:Wirksworth Station\, Station Road\, Coldwell Street\, Wirksworth\, Derbyshire\, DE4 4FB\, United Kingdom
CATEGORIES:Diesel Services
ORGANIZER;CN="Ecclesbourne Valley Railway":MAILTO:ticketoffice@e-v-r.com
END:VEVENT
BEGIN:VEVENT
DTSTART;TZID=Europe/London:20260710T101500
DTEND;TZID=Europe/London:20260712T170000
DTSTAMP:20260421T002053
CREATED:20260216T140250Z
LAST-MODIFIED:20260216T140250Z
UID:1831-1783678500-1783875600@www.e-v-r.com
SUMMARY:Steam Gala
DESCRIPTION:Information about our Steam Gala will be added as soon as details have been confirmed.
URL:https://www.e-v-r.com/event/steam-gala/
LOCATION:Wirksworth Station\, Station Road\, Coldwell Street\, Wirksworth\, Derbyshire\, DE4 4FB\, United Kingdom
CATEGORIES:Steam Services
ORGANIZER;CN="Ecclesbourne Valley Railway":MAILTO:ticketoffice@e-v-r.com
END:VEVENT
BEGIN:VEVENT
DTSTART;TZID=Europe/London:20260716T101500
DTEND;TZID=Europe/London:20260716T170000
DTSTAMP:20260421T002053
CREATED:20260204T121617Z
LAST-MODIFIED:20260224T143130Z
UID:1699-1784196900-1784221200@www.e-v-r.com
SUMMARY:Diesel Services
DESCRIPTION:We will be operating our diesel services between Wirksworth and Duffield\, as follows: \nDepart Wirksworth \n\n\n\nWirksworth Dep\n10:15\n12:45\n15:20\n\n\nIdridgehay Dep\n10:35\n13:05\n15:40\n\n\nShottle Dep\n10:41\n13:11\n15:46\n\n\nDuffield Arr\n10:53\n13:23\n15:58\n\n\n\nDepart Duffield \n\n\n\nDuffield Dep\n11:15\n13:45\n16:20\n\n\nShottle Dep\n11:29\n13:59\n16:34\n\n\nIdridgehay Dep\n11:37\n14:07\n16:42\n\n\nWirksworth Arr\n11:56\n14:26\n17:01\n\n\n\n  \nOnline prices (booking fees apply) \nAdults: £21.50\nChildren: £11.00 (5-15)\nFamily: £48.00 (two adults & up to three children) \nBUY TICKETS & MORE INFORMATION \n 
URL:https://www.e-v-r.com/event/diesel-services-5/
LOCATION:Wirksworth Station\, Station Road\, Coldwell Street\, Wirksworth\, Derbyshire\, DE4 4FB\, United Kingdom
CATEGORIES:Diesel Services
ORGANIZER;CN="Ecclesbourne Valley Railway":MAILTO:ticketoffice@e-v-r.com
END:VEVENT
BEGIN:VEVENT
DTSTART;TZID=Europe/London:20260717T101500
DTEND;TZID=Europe/London:20260719T170000
DTSTAMP:20260421T002053
CREATED:20260204T122106Z
LAST-MODIFIED:20260224T143204Z
UID:1705-1784283300-1784480400@www.e-v-r.com
SUMMARY:Steam Services
DESCRIPTION:We will be operating our steam services between Wirksworth and Duffield\, as follows: \nDepart Wirksworth \n\n\n\nWirksworth Dep\n10:15\n12:45\n15:20\n\n\nIdridgehay Dep\n10:35\n13:05\n15:40\n\n\nShottle Dep\n10:41\n13:11\n15:46\n\n\nDuffield Arr\n10:53\n13:23\n15:58\n\n\n\nDepart Duffield \n\n\n\nDuffield Dep\n11:15\n13:45\n16:20\n\n\nShottle Dep\n11:29\n13:59\n16:34\n\n\nIdridgehay Dep\n11:37\n14:07\n16:42\n\n\nWirksworth Arr\n11:56\n14:26\n17:01\n\n\n\n  \nOnline prices (booking fees apply) \nAdults: £21.50\nChildren: £11.00 (5-15)\nFamily: £48.00 (two adults & up to three children) \nBUY TICKETS & MORE INFORMATION \n 
URL:https://www.e-v-r.com/event/steam-services-33/
LOCATION:Wirksworth Station\, Station Road\, Coldwell Street\, Wirksworth\, Derbyshire\, DE4 4FB\, United Kingdom
CATEGORIES:Steam Services
ORGANIZER;CN="Ecclesbourne Valley Railway":MAILTO:ticketoffice@e-v-r.com
END:VEVENT
BEGIN:VEVENT
DTSTART;TZID=Europe/London:20260723T101500
DTEND;TZID=Europe/London:20260723T170000
DTSTAMP:20260421T002053
CREATED:20260204T121710Z
LAST-MODIFIED:20260224T143237Z
UID:1701-1784801700-1784826000@www.e-v-r.com
SUMMARY:Diesel Services
DESCRIPTION:We will be operating our diesel services between Wirksworth and Duffield\, as follows: \nDepart Wirksworth \n\n\n\nWirksworth Dep\n10:15\n12:45\n15:20\n\n\nIdridgehay Dep\n10:35\n13:05\n15:40\n\n\nShottle Dep\n10:41\n13:11\n15:46\n\n\nDuffield Arr\n10:53\n13:23\n15:58\n\n\n\nDepart Duffield \n\n\n\nDuffield Dep\n11:15\n13:45\n16:20\n\n\nShottle Dep\n11:29\n13:59\n16:34\n\n\nIdridgehay Dep\n11:37\n14:07\n16:42\n\n\nWirksworth Arr\n11:56\n14:26\n17:01\n\n\n\n  \nOnline prices (booking fees apply) \nAdults: £21.50\nChildren: £11.00 (5-15)\nFamily: £48.00 (two adults & up to three children) \nBUY TICKETS & MORE INFORMATION \n 
URL:https://www.e-v-r.com/event/diesel-services-6/
LOCATION:Wirksworth Station\, Station Road\, Coldwell Street\, Wirksworth\, Derbyshire\, DE4 4FB\, United Kingdom
CATEGORIES:Diesel Services
ORGANIZER;CN="Ecclesbourne Valley Railway":MAILTO:ticketoffice@e-v-r.com
END:VEVENT
BEGIN:VEVENT
DTSTART;TZID=Europe/London:20260724T101500
DTEND;TZID=Europe/London:20260726T170000
DTSTAMP:20260421T002053
CREATED:20260204T122225Z
LAST-MODIFIED:20260224T143308Z
UID:1707-1784888100-1785085200@www.e-v-r.com
SUMMARY:Steam Services
DESCRIPTION:We will be operating our steam services between Wirksworth and Duffield\, as follows: \nDepart Wirksworth \n\n\n\nWirksworth Dep\n10:15\n12:45\n15:20\n\n\nIdridgehay Dep\n10:35\n13:05\n15:40\n\n\nShottle Dep\n10:41\n13:11\n15:46\n\n\nDuffield Arr\n10:53\n13:23\n15:58\n\n\n\nDepart Duffield \n\n\n\nDuffield Dep\n11:15\n13:45\n16:20\n\n\nShottle Dep\n11:29\n13:59\n16:34\n\n\nIdridgehay Dep\n11:37\n14:07\n16:42\n\n\nWirksworth Arr\n11:56\n14:26\n17:01\n\n\n\n  \nOnline prices (booking fees apply) \nAdults: £21.50\nChildren: £11.00 (5-15)\nFamily: £48.00 (two adults & up to three children) \nBUY TICKETS & MORE INFORMATION \n 
URL:https://www.e-v-r.com/event/steam-services-34/
LOCATION:Wirksworth Station\, Station Road\, Coldwell Street\, Wirksworth\, Derbyshire\, DE4 4FB\, United Kingdom
CATEGORIES:Steam Services
ORGANIZER;CN="Ecclesbourne Valley Railway":MAILTO:ticketoffice@e-v-r.com
END:VEVENT
BEGIN:VEVENT
DTSTART;TZID=Europe/London:20260730T101500
DTEND;TZID=Europe/London:20260730T170000
DTSTAMP:20260421T002053
CREATED:20260204T121905Z
LAST-MODIFIED:20260224T143344Z
UID:1703-1785406500-1785430800@www.e-v-r.com
SUMMARY:Diesel Services
DESCRIPTION:We will be operating our diesel services between Wirksworth and Duffield\, as follows: \nDepart Wirksworth \n\n\n\nWirksworth Dep\n10:15\n12:45\n15:20\n\n\nIdridgehay Dep\n10:35\n13:05\n15:40\n\n\nShottle Dep\n10:41\n13:11\n15:46\n\n\nDuffield Arr\n10:53\n13:23\n15:58\n\n\n\nDepart Duffield \n\n\n\nDuffield Dep\n11:15\n13:45\n16:20\n\n\nShottle Dep\n11:29\n13:59\n16:34\n\n\nIdridgehay Dep\n11:37\n14:07\n16:42\n\n\nWirksworth Arr\n11:56\n14:26\n17:01\n\n\n\n  \nOnline prices (booking fees apply) \nAdults: £21.50\nChildren: £11.00 (5-15)\nFamily: £48.00 (two adults & up to three children) \nBUY TICKETS & MORE INFORMATION \n 
URL:https://www.e-v-r.com/event/diesel-services-7/
LOCATION:Wirksworth Station\, Station Road\, Coldwell Street\, Wirksworth\, Derbyshire\, DE4 4FB\, United Kingdom
CATEGORIES:Diesel Services
ORGANIZER;CN="Ecclesbourne Valley Railway":MAILTO:ticketoffice@e-v-r.com
END:VEVENT
BEGIN:VEVENT
DTSTART;TZID=Europe/London:20260731T101500
DTEND;TZID=Europe/London:20260731T170000
DTSTAMP:20260421T002053
CREATED:20260204T122334Z
LAST-MODIFIED:20260224T143441Z
UID:1709-1785492900-1785517200@www.e-v-r.com
SUMMARY:Steam Services
DESCRIPTION:We will be operating our steam services between Wirksworth and Duffield\, as follows: \nDepart Wirksworth \n\n\n\nWirksworth Dep\n10:15\n12:45\n15:20\n\n\nIdridgehay Dep\n10:35\n13:05\n15:40\n\n\nShottle Dep\n10:41\n13:11\n15:46\n\n\nDuffield Arr\n10:53\n13:23\n15:58\n\n\n\nDepart Duffield \n\n\n\nDuffield Dep\n11:15\n13:45\n16:20\n\n\nShottle Dep\n11:29\n13:59\n16:34\n\n\nIdridgehay Dep\n11:37\n14:07\n16:42\n\n\nWirksworth Arr\n11:56\n14:26\n17:01\n\n\n\n  \nOnline prices (booking fees apply) \nAdults: £21.50\nChildren: £11.00 (5-15)\nFamily: £48.00 (two adults & up to three children) \nBUY TICKETS & MORE INFORMATION \n 
URL:https://www.e-v-r.com/event/steam-services-35/
LOCATION:Wirksworth Station\, Station Road\, Coldwell Street\, Wirksworth\, Derbyshire\, DE4 4FB\, United Kingdom
CATEGORIES:Steam Services
ORGANIZER;CN="Ecclesbourne Valley Railway":MAILTO:ticketoffice@e-v-r.com
END:VEVENT
END:VCALENDAR