BEGIN:VCALENDAR
VERSION:2.0
PRODID:-//Ecclesbourne Valley Railway - ECPv6.15.20//NONSGML v1.0//EN
CALSCALE:GREGORIAN
METHOD:PUBLISH
X-WR-CALNAME:Ecclesbourne Valley Railway
X-ORIGINAL-URL:https://www.e-v-r.com
X-WR-CALDESC:Events for Ecclesbourne Valley Railway
REFRESH-INTERVAL;VALUE=DURATION:PT1H
X-Robots-Tag:noindex
X-PUBLISHED-TTL:PT1H
BEGIN:VTIMEZONE
TZID:Europe/London
BEGIN:DAYLIGHT
TZOFFSETFROM:+0000
TZOFFSETTO:+0100
TZNAME:BST
DTSTART:20250330T010000
END:DAYLIGHT
BEGIN:STANDARD
TZOFFSETFROM:+0100
TZOFFSETTO:+0000
TZNAME:GMT
DTSTART:20251026T010000
END:STANDARD
BEGIN:DAYLIGHT
TZOFFSETFROM:+0000
TZOFFSETTO:+0100
TZNAME:BST
DTSTART:20260329T010000
END:DAYLIGHT
BEGIN:STANDARD
TZOFFSETFROM:+0100
TZOFFSETTO:+0000
TZNAME:GMT
DTSTART:20261025T010000
END:STANDARD
BEGIN:DAYLIGHT
TZOFFSETFROM:+0000
TZOFFSETTO:+0100
TZNAME:BST
DTSTART:20270328T010000
END:DAYLIGHT
BEGIN:STANDARD
TZOFFSETFROM:+0100
TZOFFSETTO:+0000
TZNAME:GMT
DTSTART:20271031T010000
END:STANDARD
END:VTIMEZONE
BEGIN:VEVENT
DTSTART;TZID=Europe/London:20260510T100000
DTEND;TZID=Europe/London:20260510T163000
DTSTAMP:20260420T221238
CREATED:20251208T141355Z
LAST-MODIFIED:20260326T123241Z
UID:1420-1778407200-1778430600@www.e-v-r.com
SUMMARY:Vintage Road & Rail Day
DESCRIPTION:Our next Vintage Road & Rail event will take place at Wirksworth Station on Sunday 10 May 2026\, 10am to 4.30pm. \nVIEW THE TIMETABLE HERE \nWe’re excited to welcome visitors back to the Ecclesbourne Valley Railway Vintage Road & Rail Rally\, a full day celebrating the golden age of transport. \nThis year’s event offers an impressive mix of historic vehicles\, heritage displays\, and classic engineering for all ages. \nWhat to Expect \nVisitors can enjoy a wide range of vintage and heritage attractions\, including: \n\nSteam vehicles moving around the station\nVintage lorries and cars\, restored and displayed by their owners\nClassic tractors and motorcycles\nHeritage trains running throughout the day\nFairground organ music creating a lively atmosphere\nTransport memorabilia\, local history displays\, and specialist exhibitions\nPossible BBMF Flypast (to be confirmed)\n\nParking Information \nPlease note: There will be no parking available at Wirksworth Station on the day of the event due to exhibition space requirements. \nEvent parking will be available at: \nHaarlem Mill\, DE4 4BG\nTDP Factory Car Park (same postcode)\nBoth sites are a short distance from the station. \nIf you’re travelling from Duffield\, there is parking at Duffield Station\, DE56 4EQ \nFree Vintage Shuttle Bus \nA free vintage bus service will run regularly between the event car parks and Wirksworth Station all day\, allowing visitors to arrive easily and enjoy a nostalgic journey to the rally. \nThis event is organised by Vallances Coaches\, a family-run business based in Mansfield. \nEvent Prices (when purchased online)  \nVintage Road & Rail Special Day Rover: £18.50+50p booking fee \nEvent only: £5+50p booking fee \nEvent & Day Rover: £25.50+50p booking fee \nChild Event & Day Rover: £11.00+50p booking fee \nFamily Event & Day Rover: £53.00+50 booking fee \nBUY TICKETS
URL:https://www.e-v-r.com/event/vintage-road-rail-day/
LOCATION:Wirksworth Station\, Station Road\, Coldwell Street\, Wirksworth\, Derbyshire\, DE4 4FB\, United Kingdom
CATEGORIES:Vintage Rally
ATTACH;FMTTYPE=image/jpeg:https://www.e-v-r.com/wp-content/uploads/2025/12/WFX360-Austin-Station-Road-Wirksworth-110525-exrawimg_C9A9623.jpeg
END:VEVENT
END:VCALENDAR