BEGIN:VCALENDAR
VERSION:2.0
PRODID:-//Ecclesbourne Valley Railway - ECPv6.15.20//NONSGML v1.0//EN
CALSCALE:GREGORIAN
METHOD:PUBLISH
X-ORIGINAL-URL:https://www.e-v-r.com
X-WR-CALDESC:Events for Ecclesbourne Valley Railway
REFRESH-INTERVAL;VALUE=DURATION:PT1H
X-Robots-Tag:noindex
X-PUBLISHED-TTL:PT1H
BEGIN:VTIMEZONE
TZID:Europe/London
BEGIN:DAYLIGHT
TZOFFSETFROM:+0000
TZOFFSETTO:+0100
TZNAME:BST
DTSTART:20250330T010000
END:DAYLIGHT
BEGIN:STANDARD
TZOFFSETFROM:+0100
TZOFFSETTO:+0000
TZNAME:GMT
DTSTART:20251026T010000
END:STANDARD
BEGIN:DAYLIGHT
TZOFFSETFROM:+0000
TZOFFSETTO:+0100
TZNAME:BST
DTSTART:20260329T010000
END:DAYLIGHT
BEGIN:STANDARD
TZOFFSETFROM:+0100
TZOFFSETTO:+0000
TZNAME:GMT
DTSTART:20261025T010000
END:STANDARD
BEGIN:DAYLIGHT
TZOFFSETFROM:+0000
TZOFFSETTO:+0100
TZNAME:BST
DTSTART:20270328T010000
END:DAYLIGHT
BEGIN:STANDARD
TZOFFSETFROM:+0100
TZOFFSETTO:+0000
TZNAME:GMT
DTSTART:20271031T010000
END:STANDARD
END:VTIMEZONE
BEGIN:VEVENT
DTSTART;TZID=Europe/London:20260403T101500
DTEND;TZID=Europe/London:20260406T170000
DTSTAMP:20260420T201123
CREATED:20260128T160954Z
LAST-MODIFIED:20260330T184131Z
UID:1592-1775211300-1775494800@www.e-v-r.com
SUMMARY:Easter Steam Service
DESCRIPTION:Over the long Easter weekend\, running from Good Friday (3 April) to Easter Monday (6 April) we have lined up an exciting range of events and activities for all age groups. \nGOOD FRIDAY \nOn Friday\, it’s steam services all day and we will be serving a range of drinks and snack from our take-away kiosk and from our licensed Apollo bar\, which also stocks a range of wines and beers\, along with soft drinks and coffee. \nSATURDAY 4 APRIL \nAlong with our steam services\, which will be running all day\, our Duffield Shopper Special will also be operating to bring people from Duffield (departing 8.20am) to Wirksworth where they can visit the popular Wirksworth Farmers Market (which operates the first Saturday of the month). \nEASTER SUNDAY \nOn Easter Sunday we will be running steam services all day and we will be serving a range of drinks and snack from our take-away kiosk and from our licensed Apollo bar\, which also stocks a range of wines and beers\, along with soft drinks and coffee. \nWe are also serving a 3-course Easter Sunday Roast Lunch for which bookings are essential. \nFollow this LINK for all the details \n>> BOOK EASTER SUNDAY ROAST LUNCH << \nEASTER MONDAY \nFor Easter Monday we have lined up our Family Fun Day\, which will take place in addition to our steam services\, which will include: \n\nEaster Bunny (appearances throughout the day from 10am to 4pm)\nEaster Egg Hunt (included with the ticket price\, with a prize for every child)\nFace Painting (extra charges apply)\nChildren’s Play Zone (with activities for all ages)\nStream Train Rides (normal adult fares apply; U15s travel free & get a free goodie bag\n\nWe will also be running services to our Ravenstor station\, which is included in the ticket price. You can also just buy tickets for the journey to and from Ravenstor for £5 (adult) £2.50 (child).\n\nOver the weekend we will be operating our steam locomotives between Wirksworth and Duffield\, as follows:\n\nDepart Wirksworth\n\n\n\nWirksworth Dep\n10:15\n12:45\n15:20\n\n\nIdridgehay Dep\n10:35\n13:05\n15:40\n\n\nShottle Dep\n10:41\n13:11\n15:46\n\n\nDuffield Arr\n10:53\n13:23\n15:58\n\n\n\nDepart Duffield \n\n\n\nDuffield Dep\n11:15\n13:45\n16:20\n\n\nShottle Dep\n11:29\n13:59\n16:34\n\n\nIdridgehay Dep\n11:37\n14:07\n16:42\n\n\nWirksworth Arr\n11:56\n14:26\n17:01\n\n\n\n  \nOnline prices (booking fees apply) \nAdults: £21.50\nChildren: £11.00 (5-15)\nFamily: £48.00 (two adults & up to three children) \nBUY TICKETS & MORE INFORMATION
URL:https://www.e-v-r.com/event/steam-service-6/
LOCATION:Wirksworth Station\, Station Road\, Coldwell Street\, Wirksworth\, Derbyshire\, DE4 4FB\, United Kingdom
CATEGORIES:Seasonal Special,Steam Services
ORGANIZER;CN="Ecclesbourne Valley Railway":MAILTO:ticketoffice@e-v-r.com
END:VEVENT
BEGIN:VEVENT
DTSTART;TZID=Europe/London:20260404T082000
DTEND;TZID=Europe/London:20260404T082000
DTSTAMP:20260420T201123
CREATED:20260128T161204Z
LAST-MODIFIED:20260128T175011Z
UID:1595-1775290800-1775290800@www.e-v-r.com
SUMMARY:Duffield Shopper Special
DESCRIPTION:The Duffield Shopper Specials run on the first Saturday of each month\, on the same day as the Wirksworth Farmers Market. \nThe Diesel Multiple Unit leaves Duffield at 8.20am\, allowing ample time to explore this well-established and popular event\, with artisans selling a wide range of products. \nThis monthly service runs in addition to the scheduled steam services\, which start at 10:15am from Wirksworth. \nTo buy tickets follow this LINK and then scroll down to the Duffield Shopper Special
URL:https://www.e-v-r.com/event/duffield-shopper-special-4/
LOCATION:Duffield Station\, Station Approach\, Duffield\, Derbyshire\, DE56 4EQ\, United Kingdom
CATEGORIES:Duffield Shopper Special
ORGANIZER;CN="Ecclesbourne Valley Railway":MAILTO:ticketoffice@e-v-r.com
END:VEVENT
BEGIN:VEVENT
DTSTART;TZID=Europe/London:20260404T105000
DTEND;TZID=Europe/London:20260404T170000
DTSTAMP:20260420T201123
CREATED:20250930T115313Z
LAST-MODIFIED:20260128T180001Z
UID:1091-1775299800-1775322000@www.e-v-r.com
SUMMARY:Ravenstor Shuttle
DESCRIPTION:Take the Ravenstor Shuttle\, a Diesel Multiple Unit\, to Ravenstor Station\, which is the most northerly point of the line\, situated just half a mile away from Wirksworth Station at the end of a 1-in-27 incline. \nOn arrival it could be mistaken that you are in the middle of nowhere! In fact\, you are just a few minutes away from many of the tourist attractions associated with the Peak District. \nAround the Station \nThere are many places to visit around Ravenstor Station and indeed one could spend a whole day visiting all of them! \nIf you are planning a day in the Peak District why not travel from Duffield to Wirksworth by train and hop onto our Ravenstor shuttle. Alternatively\, you could park at Wirksworth Station and ride up instead. \nFollow waymarkings from the station to visit: \n\nNational Stone Centre\nDerbyshire Eco Centre\nBlack Rocks\nMiddleton Top Engine House\nThe High Peak Trail\nSteeple Grange Light Railway\n\nBUY TICKETS AT THE TICKET OFFICE
URL:https://www.e-v-r.com/event/ravenstor-shuttle-2/
LOCATION:Wirksworth Station\, Station Road\, Coldwell Street\, Wirksworth\, Derbyshire\, DE4 4FB\, United Kingdom
CATEGORIES:Ravenstor Shuttle
ORGANIZER;CN="Ecclesbourne Valley Railway":MAILTO:ticketoffice@e-v-r.com
END:VEVENT
END:VCALENDAR